BEGIN:VCALENDAR
VERSION:2.0
PRODID:-//Devpost\, Inc.//HackMars 3.0: NEON//EN
CALSCALE:GREGORIAN
BEGIN:VTIMEZONE
TZID:America/Los_Angeles
BEGIN:DAYLIGHT
DTSTART:20260308T030000
TZOFFSETFROM:-0800
TZOFFSETTO:-0700
RRULE:FREQ=YEARLY;BYDAY=2SU;BYMONTH=3
TZNAME:PDT
END:DAYLIGHT
BEGIN:STANDARD
DTSTART:20261101T010000
TZOFFSETFROM:-0700
TZOFFSETTO:-0800
RRULE:FREQ=YEARLY;BYDAY=1SU;BYMONTH=11
TZNAME:PST
END:STANDARD
END:VTIMEZONE
BEGIN:VEVENT
DTSTAMP:20260422T082725Z
UID:2150af6b-1bd5-47f8-be38-f7a6d2f5607a
DTSTART;TZID=America/Los_Angeles:20260608T210000
DTEND;TZID=America/Los_Angeles:20260608T210000
DESCRIPTION:https://hackmars-3-0-neon.devpost.com/
SUMMARY:HackMars 3.0: NEON submission deadline
BEGIN:VALARM
ACTION:DISPLAY
TRIGGER:-P7D
SUMMARY:Just 7 left days until the submission deadline!
END:VALARM
END:VEVENT
END:VCALENDAR
